BEGIN:VCALENDAR
VERSION:2.0
PRODID:-//www.steffisburg.ch//NONSGML kigkonsult.se iCalcreator 2.22//
CALSCALE:GREGORIAN
METHOD:PUBLISH
X-WR-TIMEZONE','EUROPE/BERLIN:
BEGIN:VEVENT
UID:20260419T191457CEST-7662OSEed9@www.steffisburg.ch
DTSTAMP:20260419T171457Z
DESCRIPTION:Klicken Sie auf den folgenden Link\, um weitere Informationen z
 ur Veranstaltung zu erhalten:\nhttp://www.steffisburg.ch/de/abfallwirtscha
 ft/abfallkalender/detail/detail.php?i=
DTSTART;VALUE=DATE:20261014
LOCATION:Zone 2
SUMMARY:Altmetall
END:VEVENT
END:VCALENDAR
