BEGIN:VCALENDAR
VERSION:2.0
PRODID:-//www.steffisburg.ch//NONSGML kigkonsult.se iCalcreator 2.22//
CALSCALE:GREGORIAN
METHOD:PUBLISH
X-WR-TIMEZONE','EUROPE/BERLIN:
BEGIN:VEVENT
UID:20260419T191458CEST-6815Uwxxdz@www.steffisburg.ch
DTSTAMP:20260419T171458Z
DESCRIPTION:Klicken Sie auf den folgenden Link\, um weitere Informationen z
 ur Veranstaltung zu erhalten:\nhttp://www.steffisburg.ch/de/abfallwirtscha
 ft/abfallkalender/detail/detail.php?i=
DTSTART;VALUE=DATE:20261214
LOCATION:Zone 3
SUMMARY:Karton
END:VEVENT
END:VCALENDAR
