BEGIN:VCALENDAR
VERSION:2.0
PRODID:-//www.steffisburg.ch//NONSGML kigkonsult.se iCalcreator 2.22//
CALSCALE:GREGORIAN
METHOD:PUBLISH
X-WR-TIMEZONE','EUROPE/BERLIN:
BEGIN:VEVENT
UID:20260419T205358CEST-37641FBiFC@www.steffisburg.ch
DTSTAMP:20260419T185358Z
DESCRIPTION:Klicken Sie auf den folgenden Link\, um weitere Informationen z
 ur Veranstaltung zu erhalten:\nhttp://www.steffisburg.ch/de/abfallwirtscha
 ft/abfallkalender/detail/detail.php?i=
DTSTART;VALUE=DATE:20260706
LOCATION:Ortsteil Schwendibach
SUMMARY:Papier
END:VEVENT
END:VCALENDAR
